BEGIN:VCALENDAR
VERSION:2.0
PRODID:-//Asociación Española de Científicos - ECPv6.15.15//NONSGML v1.0//EN
CALSCALE:GREGORIAN
METHOD:PUBLISH
X-WR-CALNAME:Asociación Española de Científicos
X-ORIGINAL-URL:https://aecientificos.es
X-WR-CALDESC:Eventos para Asociación Española de Científicos
REFRESH-INTERVAL;VALUE=DURATION:PT1H
X-Robots-Tag:noindex
X-PUBLISHED-TTL:PT1H
BEGIN:VTIMEZONE
TZID:Europe/Paris
BEGIN:DAYLIGHT
TZOFFSETFROM:+0100
TZOFFSETTO:+0200
TZNAME:CEST
DTSTART:20230326T010000
END:DAYLIGHT
BEGIN:STANDARD
TZOFFSETFROM:+0200
TZOFFSETTO:+0100
TZNAME:CET
DTSTART:20231029T010000
END:STANDARD
BEGIN:DAYLIGHT
TZOFFSETFROM:+0100
TZOFFSETTO:+0200
TZNAME:CEST
DTSTART:20240331T010000
END:DAYLIGHT
BEGIN:STANDARD
TZOFFSETFROM:+0200
TZOFFSETTO:+0100
TZNAME:CET
DTSTART:20241027T010000
END:STANDARD
BEGIN:DAYLIGHT
TZOFFSETFROM:+0100
TZOFFSETTO:+0200
TZNAME:CEST
DTSTART:20250330T010000
END:DAYLIGHT
BEGIN:STANDARD
TZOFFSETFROM:+0200
TZOFFSETTO:+0100
TZNAME:CET
DTSTART:20251026T010000
END:STANDARD
END:VTIMEZONE
BEGIN:VEVENT
DTSTART;TZID=Europe/Paris:20241121T200000
DTEND;TZID=Europe/Paris:20241122T000000
DTSTAMP:20260425T033045
CREATED:20241108T113701Z
LAST-MODIFIED:20241113T195153Z
UID:856-1732219200-1732233600@aecientificos.es
SUMMARY:ACTO DE ENTREGA DE PLACAS DE HONOR 2024 - 26a EDICIÓN
DESCRIPTION:Distinción a científicos y científicas\, entidades y empresas.\nJueves 21 de noviembre de 2024\, a las 19:00 h en la Universitat Jaume I de Castelló\, Sede Lonja del Cáñamo. Calle Cavallers\, 1. Castellón.\n19:00 horas. Apertura del Acto por el Presidente de la Asociación Española de Científicos\, Dr. Manuel Jordán Vidal. \n19:30 horas. Entrega de Placas de Honor con el siguiente orden de intervención: \nCientíficos y Científicas\nDr. Guillermo Monrós Tomás\, Catedrático del Departamento de Química Orgánica e Inorgánica de la Universitat Jaume I de Castelló. Por sus contribuciones de alto impacto y relevancia internacional en la ciencia y tecnología de los materiales cerámicos y gran trayectoria de transferencia del conocimiento a la industria cerámica española. Presentación: Dr. Juan Carda Castelló\, Catedrático de Química Inorgánica de la Universitat Jaume I de Castelló y director de la Càtedra d’Innovació Cerámica Ciutat de Vila-real. \nDr. Luis Blanco Dávila\, Profesor de Investigación en el Centro de Biología Molecular Severo Ochoa (CSIC). Por sus investigaciones de relevancia internacional sobre las proteínas encargadas de copiar el material genético y su dilatada trayectoria de transferencia del conocimiento generado en forma de patentes licenciadas y creación de empresas de base tecnológica. Presentación: Dra. Margarita del Val Latorre\, Investigadora Científica en el Centro de Biología Molecular Severo Ochoa (CSIC) y Placa de Honor AEC 2021. \nDr. Miguel Ángel Castro Arroyo\, Catedrático de Química Inorgánica de la Universidad de Sevilla. Por sus contribuciones de alto impacto en ciencia y tecnología de materiales que han representado una serie de importantes avances realizados en el estudio de la interfase sólido-líquido a través de técnicas de dispersión y difracción de rayos Xy neutrones. Presentación: Dr. Pedro José Sánchez Soto\, Investigador Científico en el Instituto de Ciencia de Materiales de Sevilla (CSIC-US) y vocal del Consejo Rector de la Asociación Española de Científicos. \n \nDivulgación de la Ciencia\nDr. José Manuel López Nicolás\, Catedrático de Bioquímica y Biología Molecular\, y Vicerrector de Transferencia\, Comunicación y Divulgación Científica de la Universidad de Murcia. Por su intensa actividad de transferencia del conocimiento\, tanto a nivel industrial como a nivel de comunicación científica a la sociedad\, junto con sus investigaciones de relevancia internacional en el campo de la Bioquímica y Biotecnología enzimática. Presentación: Dr. Dr. Jesús Lancis Sáez\, Catedrático de Óptica y Vicerrector de Investigación de la Universitat Jaume I de Castelló. \n  \nEntidades y empresas\nFUNDACIÓN INSTITUTO DE ECOLOGÍA LITORAL. Excmo. Sr. D. Antonio Pérez Pérez. Presidente de la Diputación de Alicante y de la Fundación Instituto de Ecología Litoral. Por su relevante contribución científica y tecnológica a la conservación de los ecosistemas marinos\, litorales y terrestres a través de la investigación\, realización de informes técnicos\, asesoramiento y el fomento del respeto a nuestro litoral mediterráneo y al seguimiento y conservación de las praderas de Posidonia oceanica. Presentación: Dr. Gabriel Soler Capdepón\, Director Científico del Instituto de Ecología Litoral. \nBIOHOPE SCIENTIFIC SOLUTIONS. Dra. Isabel Portero Sánchez\, fundadora y CEO. Por la misión de la empresa en desarrollar herramientas de diagnóstico de medicina de precisión para lograr un conocimiento único del paciente y una terapia personalizada para su condición. Presentación: Dr. Enrique de la Rosa\, Investigador Científico del Centro de Investigaciones Biológicas Margarita Salas (CIB-CSIC) y Vicepresidente primero de la Asociación Española de Científicos. \n  \n21:00 horas. Clausura del Acto por la Sra. Rectora Magnífica de la Universitat Jaume I de Castelló y presidenta de CRUE\, Dra. Eva Alcón Soler. \n21:30 horas. Cena anual de la Asociación Española de Científicos. \n  \nINSCRIPCIÓN\nSi desea participar únicamente en la primera parte del acto o en ambas es necesario inscribirse PREVIAMENTE remitiendo un email al Secretario General de la AEC\, D. Enrique Ruiz-Ayúcar: emruizayucar@gmail.com\, con copia al Presidente de la Asociación Española de Científicos: manuel.jordan@umh.es\, antes del 15 de noviembre. \nSi desea asistir a la cena\, además de efectuar la inscripción\, deberá abonar la cantidad de 48 € por persona inscrita en el acto\, antes del 19 de noviembre\, mediante transferencia bancaria o ingreso en la cuenta: ES78 3025 0003 91 1400000488\, indicando en el concepto: CENA ANUAL-AEC y NOMBRE de las personas que se inscriben en el ACTO Y CENA. \nEsperamos contar un año más con vuestra presencia en este entrañable acto de apoyo a la Ciencia y a todas las personas implicadas en su avance en nuestro país. Como en ocasiones anteriores será una excelente oportunidad de encuentro\, cordialidad e intercambio de ideas innovadoras entre los profesionales españoles la I+D+i. \nLa CENA ANUAL de la AEC tendrá lugar en el Restaurante del Casino Antiguo de Castellón (Plaza Puerta del Sol\, nº1\, Castellón)\, a partir de las 21:30 horas. \nPara cualquier información adicional\, dirigirse a Enrique Ruiz-Ayúcar\, Secretario General de la AEC: emruizayucar@gmail.com | 606 022 611 \nAEC\, Asociación Española de Científicos. Universidad Miguel Hernández. Edificio Alcudia\, Avda. de la Universidad s/n. 03202 Elche (Alicante)
URL:https://aecientificos.es/evento/acto-de-entrega-de-placas-de-honor-2024-26a-edicion/
LOCATION:Universitat Jaume I de Castelló\, Avinguda de Vicent Sos Baynat\, s/n\, Castellón de la Plana\, 12006\, Spain
CATEGORIES:Evento
ATTACH;FMTTYPE=image/jpeg:https://aecientificos.es/wp-content/uploads/2024/11/PORTADA-ENTREGA-PLACAS-HONOR-AEC-2024-768x512-1.jpg
END:VEVENT
END:VCALENDAR